BEGIN:VCALENDAR
VERSION:2.0
PRODID:Smithfield, RI Calendar Creator
METHOD:PUBLISH
BEGIN:VEVENT
DTSTAMP:20260412T120448
DTSTART:20260412T110000
DTEND:20260412T130000
SUMMARY:Country Line Dancing
DESCRIPTION:
X-ALT-DESC;FMTTYPE=text/html:
LOCATION:East Smithfield Neighborhood Center\, 7 Esmond Street Smithfield\, Rhode Island 02917
CLASS:PUBLIC
END:VEVENT
END:VCALENDAR
