BEGIN:VCALENDAR
VERSION:2.0
PRODID:Smithfield, RI Calendar Creator
METHOD:PUBLISH
BEGIN:VEVENT
DTSTAMP:20260406T131055
DTSTART:20260418T090000
DTEND:20260418T120000
SUMMARY:Earth Day 2026 Clean Up
DESCRIPTION:<h1>Earth Day Litter Clean-Up 2026</h1><p><strong>Saturday, April 18, 2026</strong><br><strong>Rain Date:</strong> Saturday, April 25, 2026<br><strong>Time:</strong> 9:00 a.m. – 12:00 p.m.</p><p>Sign-up and supplies will be available at the Deerfield Park Amphitheater.</p><p>Clean-up locations will be available throughout town.</p><p>Individuals, families, groups, community organizations, and businesses are encouraged to participate. This is a great opportunity for students to meet community service requirements.</p><p>All children under the age of 18 must have an adult chaperone present to participate.</p><p>For more information or to register in advance, please call 401-233-1034 x205 or email <a href="mailto:&#114;&#101;&#99;&#121;&#99;&#108;&#101;&#64;&#115;&#109;&#105;&#116;&#104;&#102;&#105;&#101;&#108;&#100;&#114;&#105;&#46;&#103;&#111;&#118;">recycle@smithfieldri.gov</a>.</p><p>&nbsp;</p><p><p style="text-align: center;"></p></p>
X-ALT-DESC;FMTTYPE=text/html:<h1>Earth Day Litter Clean-Up 2026</h1><p><strong>Saturday, April 18, 2026</strong><br><strong>Rain Date:</strong> Saturday, April 25, 2026<br><strong>Time:</strong> 9:00 a.m. – 12:00 p.m.</p><p>Sign-up and supplies will be available at the Deerfield Park Amphitheater.</p><p>Clean-up locations will be available throughout town.</p><p>Individuals, families, groups, community organizations, and businesses are encouraged to participate. This is a great opportunity for students to meet community service requirements.</p><p>All children under the age of 18 must have an adult chaperone present to participate.</p><p>For more information or to register in advance, please call 401-233-1034 x205 or email <a href="mailto:&#114;&#101;&#99;&#121;&#99;&#108;&#101;&#64;&#115;&#109;&#105;&#116;&#104;&#102;&#105;&#101;&#108;&#100;&#114;&#105;&#46;&#103;&#111;&#118;">recycle@smithfieldri.gov</a>.</p><p>&nbsp;</p><p><p style="text-align: center;"></p></p>
LOCATION:Deerfield Park\, 39 Lisa Ann Circle Smithfield\, Rhode Island 02828
CLASS:PUBLIC
END:VEVENT
END:VCALENDAR
