BEGIN:VCALENDAR
VERSION:2.0
PRODID:Smithfield, RI Calendar Creator
METHOD:PUBLISH
BEGIN:VEVENT
DTSTAMP:20260406T100045
DTSTART:20260408T180000
DTEND:20260408T235900
SUMMARY:Town Council Work Session
DESCRIPTION:
X-ALT-DESC;FMTTYPE=text/html:
LOCATION:Smithfield High School\, 90 Pleasant View Ave. Smithfield\, Rhode Island 02917
CLASS:PUBLIC
END:VEVENT
END:VCALENDAR
