BEGIN:VCALENDAR
VERSION:2.0
PRODID:Smithfield, RI Calendar Creator
METHOD:PUBLISH
BEGIN:VEVENT
DTSTAMP:20260330T094006
DTSTART:20260413T173000
DTEND:20260413T193000
SUMMARY:Community Information Meeting with Rhode Island Energy
DESCRIPTION:<p>The evening will provide an opportunity to hear from Rhode Island Energy leadership about issues important to the community. Customer service representatives will also be available to answer account questions and connect you with information about bill assistance, energy efficiency, and other valuable resources.&nbsp;</p><p>&nbsp;</p><p>Seating is limited.</p><p>Please call-in advance to reserve your place</p><p>401-286-5854</p>
X-ALT-DESC;FMTTYPE=text/html:<p>The evening will provide an opportunity to hear from Rhode Island Energy leadership about issues important to the community. Customer service representatives will also be available to answer account questions and connect you with information about bill assistance, energy efficiency, and other valuable resources.&nbsp;</p><p>&nbsp;</p><p>Seating is limited.</p><p>Please call-in advance to reserve your place</p><p>401-286-5854</p>
LOCATION:Smithfield Senior Center\, 1 William J. Hawkins Jr Trail Smithfield\, Rhode Island 02828
CLASS:PUBLIC
END:VEVENT
END:VCALENDAR
