BEGIN:VCALENDAR
VERSION:2.0
PRODID:Smithfield, RI Calendar Creator
METHOD:PUBLISH
BEGIN:VEVENT
DTSTAMP:20260326T103747
DTSTART:20260407T173000
DTEND:20260407T235900
SUMMARY:Budget and Financial Review Board
DESCRIPTION:
X-ALT-DESC;FMTTYPE=text/html:
LOCATION:Smithfield Police Department\, 215 Pleasant View Ave. Smithfield\, Rhode Island 02817
CLASS:PUBLIC
END:VEVENT
END:VCALENDAR
