BEGIN:VCALENDAR
VERSION:2.0
PRODID:Smithfield, RI Calendar Creator
METHOD:PUBLISH
BEGIN:VEVENT
DTSTAMP:20260226T143941
DTSTART:20260428T173000
DTEND:20260428T183000
SUMMARY:Zumba Class
DESCRIPTION:<p>Ready to dance your way to fun and fitness? Join us every Tuesday from 5:30pm-6:30pm at the East Smithfield Neighborhood Center for Zumba Class! Open to all adults, this fun, energetic dance workout is just $5 per person -- cash at the door. No registration, no pressure -- just good vibes and great music. Come dance with us!&nbsp;</p><p>&nbsp;</p><p>Please call the Smithfield Recreation Department with any questions, comments, or concerns: (401)349-0612&nbsp;</p>
X-ALT-DESC;FMTTYPE=text/html:<p>Ready to dance your way to fun and fitness? Join us every Tuesday from 5:30pm-6:30pm at the East Smithfield Neighborhood Center for Zumba Class! Open to all adults, this fun, energetic dance workout is just $5 per person -- cash at the door. No registration, no pressure -- just good vibes and great music. Come dance with us!&nbsp;</p><p>&nbsp;</p><p>Please call the Smithfield Recreation Department with any questions, comments, or concerns: (401)349-0612&nbsp;</p>
LOCATION:East Smithfield Neighborhood Center\, 7 Esmond Street Smithfield\, Rhode Island 02917
CLASS:PUBLIC
END:VEVENT
END:VCALENDAR
