BEGIN:VCALENDAR
VERSION:2.0
PRODID:Smithfield, RI Calendar Creator
METHOD:PUBLISH
BEGIN:VEVENT
DTSTAMP:20260203T113436
DTSTART:20260429T170000
DTEND:20260429T235900
SUMMARY:Sewer Authority
DESCRIPTION:
X-ALT-DESC;FMTTYPE=text/html:
LOCATION:Smithfield Town Hall\, 64 Farnum Pike Smithfield\, Rhode Island 02917
CLASS:PUBLIC
END:VEVENT
END:VCALENDAR
