BEGIN:VCALENDAR
VERSION:2.0
PRODID:Smithfield, RI Calendar Creator
METHOD:PUBLISH
BEGIN:VEVENT
DTSTAMP:20260203T113423
DTSTART:20260423T180000
DTEND:20260423T235900
SUMMARY:Greenville Public Library Board of Trustees
DESCRIPTION:<a href="http://www.smithfieldri.gov/government/2025-meeting-agendas" target="_blank">Meeting Agenda</a>
X-ALT-DESC;FMTTYPE=text/html:<a href="http://www.smithfieldri.gov/government/2025-meeting-agendas" target="_blank">Meeting Agenda</a>
LOCATION:Greenville Public Library\, 573 Putnam Pike Greenville\, Rhode Island 02828
CLASS:PUBLIC
END:VEVENT
END:VCALENDAR
