BEGIN:VCALENDAR
VERSION:2.0
PRODID:Smithfield, RI Calendar Creator
METHOD:PUBLISH
BEGIN:VEVENT
DTSTAMP:20260203T113411
DTSTART:20260421T190000
DTEND:20260421T235900
SUMMARY:East Smithfield Public Library Board of Trustees
DESCRIPTION:<a href="http://www.smithfieldri.gov/government/2025-meeting-agendas" target="_blank">Meeting Agenda</a>
X-ALT-DESC;FMTTYPE=text/html:<a href="http://www.smithfieldri.gov/government/2025-meeting-agendas" target="_blank">Meeting Agenda</a>
LOCATION:East Smithfield Public Library\, 50 Esmond Street Smithfield\, Rhode Island 02917
CLASS:PUBLIC
END:VEVENT
END:VCALENDAR
