BEGIN:VCALENDAR
VERSION:2.0
PRODID:Smithfield, RI Calendar Creator
METHOD:PUBLISH
BEGIN:VEVENT
DTSTAMP:20260203T112952
DTSTART:20260407T190000
DTEND:20260407T235900
SUMMARY:Town Council
DESCRIPTION:<p>The Town Council typically meets on the first and third Tuesday of the month at the Smithfield Town Hall.</p><p>&nbsp;<a href="https://www.smithfieldri.gov/government/2025-meeting-agendas" target="_blank">Meeting Agenda</a></p>
X-ALT-DESC;FMTTYPE=text/html:<p>The Town Council typically meets on the first and third Tuesday of the month at the Smithfield Town Hall.</p><p>&nbsp;<a href="https://www.smithfieldri.gov/government/2025-meeting-agendas" target="_blank">Meeting Agenda</a></p>
LOCATION:Smithfield Town Hall\, 64 Farnum Pike Smithfield\, Rhode Island 02917
CLASS:PUBLIC
END:VEVENT
END:VCALENDAR
