BEGIN:VCALENDAR
VERSION:2.0
PRODID:Smithfield, RI Calendar Creator
METHOD:PUBLISH
BEGIN:VEVENT
DTSTAMP:20260203T112858
DTSTART:20260402T090000
DTEND:20260402T235900
SUMMARY:Probate Court
DESCRIPTION:<a href="https://www.smithfieldri.gov/government/2025-meeting-agendas" target="_blank">Meeting Agenda</a>
X-ALT-DESC;FMTTYPE=text/html:<a href="https://www.smithfieldri.gov/government/2025-meeting-agendas" target="_blank">Meeting Agenda</a>
LOCATION:Smithfield Town Hall\, 64 Farnum Pike Smithfield\, Rhode Island 02917
CLASS:PUBLIC
END:VEVENT
END:VCALENDAR
