BEGIN:VCALENDAR
VERSION:2.0
PRODID:Smithfield, RI Calendar Creator
METHOD:PUBLISH
BEGIN:VEVENT
DTSTAMP:20251230T160016
DTSTART:20260504T180000
DTEND:20260504T235900
SUMMARY:Charter Review Commission
DESCRIPTION:<a href="https://www.smithfieldri.gov/government/2025-meeting-agendas" target="_blank">Meeting Agenda</a>
X-ALT-DESC;FMTTYPE=text/html:<a href="https://www.smithfieldri.gov/government/2025-meeting-agendas" target="_blank">Meeting Agenda</a>
LOCATION:Smithfield Town Hall\, 64 Farnum Pike Smithfield\, Rhode Island 02917
CLASS:PUBLIC
END:VEVENT
END:VCALENDAR
