BEGIN:VCALENDAR
VERSION:2.0
PRODID:Smithfield, RI Calendar Creator
METHOD:PUBLISH
BEGIN:VEVENT
DTSTAMP:20260407T085915
DTSTART:20260413T180000
DTEND:20260413T235900
SUMMARY:Charter Review Commission
DESCRIPTION:
X-ALT-DESC;FMTTYPE=text/html:
LOCATION:Smithfield Town Hall\, 64 Farnum Pike Smithfield\, Rhode Island 02917
CLASS:PUBLIC
END:VEVENT
END:VCALENDAR
